BEGIN:VCALENDAR
VERSION:2.0
PRODID:-//Atelier du Thabor - ECPv6.15.18//NONSGML v1.0//EN
CALSCALE:GREGORIAN
METHOD:PUBLISH
X-ORIGINAL-URL:https://www.atelierduthabor.fr
X-WR-CALDESC:Évènements pour Atelier du Thabor
REFRESH-INTERVAL;VALUE=DURATION:PT1H
X-Robots-Tag:noindex
X-PUBLISHED-TTL:PT1H
BEGIN:VTIMEZONE
TZID:Europe/Paris
BEGIN:DAYLIGHT
TZOFFSETFROM:+0100
TZOFFSETTO:+0200
TZNAME:CEST
DTSTART:20250330T010000
END:DAYLIGHT
BEGIN:STANDARD
TZOFFSETFROM:+0200
TZOFFSETTO:+0100
TZNAME:CET
DTSTART:20251026T010000
END:STANDARD
BEGIN:DAYLIGHT
TZOFFSETFROM:+0100
TZOFFSETTO:+0200
TZNAME:CEST
DTSTART:20260329T010000
END:DAYLIGHT
BEGIN:STANDARD
TZOFFSETFROM:+0200
TZOFFSETTO:+0100
TZNAME:CET
DTSTART:20261025T010000
END:STANDARD
BEGIN:DAYLIGHT
TZOFFSETFROM:+0100
TZOFFSETTO:+0200
TZNAME:CEST
DTSTART:20270328T010000
END:DAYLIGHT
BEGIN:STANDARD
TZOFFSETFROM:+0200
TZOFFSETTO:+0100
TZNAME:CET
DTSTART:20271031T010000
END:STANDARD
BEGIN:DAYLIGHT
TZOFFSETFROM:+0100
TZOFFSETTO:+0200
TZNAME:CEST
DTSTART:20280326T010000
END:DAYLIGHT
BEGIN:STANDARD
TZOFFSETFROM:+0200
TZOFFSETTO:+0100
TZNAME:CET
DTSTART:20281029T010000
END:STANDARD
END:VTIMEZONE
BEGIN:VEVENT
DTSTART;TZID=Europe/Paris:20260510T090000
DTEND;TZID=Europe/Paris:20270509T173000
DTSTAMP:20260422T074349
CREATED:20260319T160619Z
LAST-MODIFIED:20260331T152232Z
UID:19871-1778403600-1809883800@www.atelierduthabor.fr
SUMMARY:La Journée des Arts 2026
DESCRIPTION:Concours de peinture gratuit pour tous\nL’Atelier du Thabor organise la 28e Journée des Arts dans le parc du Thabor\, toute la journée le dimanche 10 mai 2026\, avec le soutien de la Ville de Rennes dans le cadre du dispositif Un Dimanche à Rennes. \nElle est couplée avec la traditionnelle exposition à l’Orangerie du Thabor\, du 4 au 10 mai 2026. \nConcours de peinture\, portes ouvertes de l’Atelier\, et concert jazzy\, accompagneront cette journée.\nLes inscriptions au concours de peinture se dérouleront à partir de 9H00 à l’Atelier. \n» En savoir plus sur le concours \n 
URL:https://www.atelierduthabor.fr/evenement/la-journee-des-arts-2026/
LOCATION:Parc du Thabor\, Rennes
CATEGORIES:Expositions,Manifestations,Vie de l'Atelier
ATTACH;FMTTYPE=image/jpeg:https://www.atelierduthabor.fr/wp-content/uploads/2026/03/AfficheJDA2026_A3-72dpi.jpg
END:VEVENT
BEGIN:VEVENT
DTSTART;VALUE=DATE:20260606
DTEND;VALUE=DATE:20260608
DTSTAMP:20260422T074349
CREATED:20260325T151422Z
LAST-MODIFIED:20260330T211821Z
UID:19874-1780704000-1780876799@www.atelierduthabor.fr
SUMMARY:Stage Peinture David Iserief
DESCRIPTION:Stage Peinture « Faire et défaire » de David Iserief\nles 6 et 7 juin 2026 \nPeindre ne consiste pas seulement à ajouter\, mais aussi à enlever. Ce stage propose de prolonger le travail en couches\, en explorant la transformation de l’image : effacer\, déplacer\, révéler.\nPeindre comme sculpter : enlever et ajouter la matière avec couteaux\, tissus et éponges\, tout en développant une recherche approfondie des contrastes et des interactions de couleurs à partir de formes végétales\, la peinture évolue entre apparition et disparition\, entre contrôle et liberté.\nOuvert aux débutants et aux peintres confirmés. \n— \nProgramme : \n« Faire et défaire » (Retirer et ajouter) est un atelier de peinture à l’huile ou acrylique dans lequel l’image se construit à travers un processus continu d’accumulation et d’effacement. Plutôt que de partir d’un motif fixe\, l’accent est mis sur la manipulation de la matière picturale : les couches sont appliquées\, retirées\, déplacées et reconstruites.\nLe tableau se développe dans un dialogue entre contrôle et hasard. En retirant la peinture à l’aide de chiffons\, de racloirs ou de pinceaux\, apparaissent des structures inattendues et des transparences. Parallèlement\, de nouvelles couches sont ajoutées\, créant un jeu complexe de profondeur\, de rythme et de tension.\nDans les premières phases\, on travaille avec différentes techniques et outils tels que le couteau à palette\, les éponges et les tissus. Cette approche permet de travailler la peinture de manière presque sculpturale : la surface n’est pas seulement peinte\, mais aussi façonnée\, ouverte et retravaillée. La peau du tableau devient un élément central.\nL’accent est mis sur le développement d’une sensibilité à la matière\, à la superposition et au timing : quand ajouter\, et quand retirer ? Le processus pictural devient ainsi une recherche d’équilibre entre présence et absence\, entre forme et suggestion.\nL’atelier est animé par un peintre néerlandais et s’inscrit dans une tradition picturale où l’expérimentation\, la matière et une approche personnelle occupent une place centrale. Il est possible de travailler de manière abstraite ou plus figurative\, le processus restant toujours déterminant.\nL’atelier convient aux débutants comme aux participants avancés. Le travail se fait de manière individuelle\, avec une attention particulière portée au processus\, à l’expérimentation et au développement d’une approche personnelle de la peinture. \n  \nNiveau de difficulté : Ouvert aux débutants et aux peintres confirmés. \nHoraires : samedi: 14H – 18 h / dimanche: 10 h -12 h30 et 13h30 -17h00 \nTarif : 70 euros\n(Possibilité de manger sur place le dimanche\, pique-nique convivial …) \nRenseignement & Inscription :\nInscription sur listing à l’atelier ou directement  auprès de David Iserief :\nMail : davidiserief@gmail.com
URL:https://www.atelierduthabor.fr/evenement/stage-peinture-davidiserief2/
LOCATION:Atelier du Thabor
CATEGORIES:Stage
ATTACH;FMTTYPE=image/jpeg:https://www.atelierduthabor.fr/wp-content/uploads/2026/03/Stage-faire-et-defaire-72dpi.jpg
END:VEVENT
BEGIN:VEVENT
DTSTART;TZID=Europe/Paris:20260613T140000
DTEND;TZID=Europe/Paris:20260613T200000
DTSTAMP:20260422T074349
CREATED:20251015T140108Z
LAST-MODIFIED:20251015T140108Z
UID:19606-1781359200-1781380800@www.atelierduthabor.fr
SUMMARY:Stage Sculpture Sujet Libre
DESCRIPTION:Stage Sculpture « Sujet libre »\nle samedi 13 juin 2026\nAccompagnement personnalisé\, animé par Laëtitia-May LE GUELAFF \nNiveau de difficulté : débutant et confirmé \nHoraires : 14h-20h \nTarifs : 75€/personne \nRenseignement & Inscription :\nInscription sur listing à l’atelier ou directement auprès de Laëtitia-May LE GUELAFF :\nTel. : 06 73 04 31 75 | Mail : laetitiamay@icloud.com
URL:https://www.atelierduthabor.fr/evenement/stage-sculpture-7juin-2/
LOCATION:Atelier du Thabor
CATEGORIES:Laetitia-May Le Guelaff Sculpture,Stage
ATTACH;FMTTYPE=image/jpeg:https://www.atelierduthabor.fr/wp-content/uploads/2024/09/stage-sculpture.jpg
ORGANIZER;CN="Laetitia-May  Le Guelaff":MAILTO:laetitiamay@icloud.com
END:VEVENT
BEGIN:VEVENT
DTSTART;VALUE=DATE:20260627
DTEND;VALUE=DATE:20260629
DTSTAMP:20260422T074349
CREATED:20260306T145841Z
LAST-MODIFIED:20260306T151304Z
UID:19854-1782518400-1782691199@www.atelierduthabor.fr
SUMMARY:Stage Peindre comme Sergio TOPPI
DESCRIPTION:Stage : Peindre comme Sergion TOPPI\nles 27 et 28 juin 2026\, animé par Boris Foscolo \n— \nProgramme : \n– Présentation de Sergio TOPPI \n– Explication sur la manière de peindre de l’artiste \n– Supports théoriques et pratiques \n– Execution \ndes croquis rough et dessins\, encrage\, composition\, mise en pratique de la technique \n  \nNiveau de difficulté : débutant et confirmé \nHoraires : samedi: 14H – 18 h / dimanche: 10 h -12 h30 et 13h30 -17h00 \nTarif : 120 euros pour 10h de stage\n(Possibilité de manger sur place le dimanche\, pique-nique convivial …) \nRenseignement & Inscription :\nInscription sur listing à l’atelier ou directement  auprès de Boris Foscolo :\nTel. : 06 81 52 27 51 | Mail : boris.foscolo@gmail.com \n 
URL:https://www.atelierduthabor.fr/evenement/stage-boris-juin2026/
LOCATION:Atelier du Thabor
CATEGORIES:Boris Foscolo,Stage
ATTACH;FMTTYPE=image/jpeg:https://www.atelierduthabor.fr/wp-content/uploads/2026/03/stage-toppi-juin2026-banner.jpg
ORGANIZER;CN="Boris Foscolo":MAILTO:boris.foscolo@gmail.com
END:VEVENT
BEGIN:VEVENT
DTSTART;TZID=Europe/Paris:20260627T140000
DTEND;TZID=Europe/Paris:20260627T170000
DTSTAMP:20260422T074349
CREATED:20251024T144407Z
LAST-MODIFIED:20260401T160702Z
UID:19678-1782568800-1782579600@www.atelierduthabor.fr
SUMMARY:Stage MANGA "Yonkoma & Expressions"
DESCRIPTION:Stage DESSIN MANGA du samedi 27 juin 2026\nanimé par Florence Bourges. \n— \nThème du stage : Yonkoma & Expressions \nForme de manga en quatre cases\, le plus souvent humoristique ou autobiographique (équivalent du strip américain.) \nNiveau de difficulté & âge : Tous niveaux de 9 à 17 ans \nHoraires : 14h-17h \nTarif : 48 € la séance de 3h \nLieu : Atelier du Thabor\, 3 place St Melaine\, 35000 RENNES (en mezzanine). \nRenseignement & Inscription :\nInscriptions & infos auprès de Florence Bourges\nE-mail de Florence : rennesart@gmail.com
URL:https://www.atelierduthabor.fr/evenement/stage-manga-yonkoma-expressions/
LOCATION:Atelier du Thabor
CATEGORIES:Florence Bourges,Stage
ATTACH;FMTTYPE=image/jpeg:https://www.atelierduthabor.fr/wp-content/uploads/2025/10/stage-manga2026-banner.jpg
ORGANIZER;CN="Florence Bourges":MAILTO:rennesart@gmail.com
END:VEVENT
END:VCALENDAR