BEGIN:VCALENDAR
VERSION:2.0
PRODID:-//Atelier du Thabor - ECPv6.15.18//NONSGML v1.0//EN
CALSCALE:GREGORIAN
METHOD:PUBLISH
X-WR-CALNAME:Atelier du Thabor
X-ORIGINAL-URL:https://www.atelierduthabor.fr
X-WR-CALDESC:Évènements pour Atelier du Thabor
REFRESH-INTERVAL;VALUE=DURATION:PT1H
X-Robots-Tag:noindex
X-PUBLISHED-TTL:PT1H
BEGIN:VTIMEZONE
TZID:Europe/Paris
BEGIN:DAYLIGHT
TZOFFSETFROM:+0100
TZOFFSETTO:+0200
TZNAME:CEST
DTSTART:20250330T010000
END:DAYLIGHT
BEGIN:STANDARD
TZOFFSETFROM:+0200
TZOFFSETTO:+0100
TZNAME:CET
DTSTART:20251026T010000
END:STANDARD
BEGIN:DAYLIGHT
TZOFFSETFROM:+0100
TZOFFSETTO:+0200
TZNAME:CEST
DTSTART:20260329T010000
END:DAYLIGHT
BEGIN:STANDARD
TZOFFSETFROM:+0200
TZOFFSETTO:+0100
TZNAME:CET
DTSTART:20261025T010000
END:STANDARD
BEGIN:DAYLIGHT
TZOFFSETFROM:+0100
TZOFFSETTO:+0200
TZNAME:CEST
DTSTART:20270328T010000
END:DAYLIGHT
BEGIN:STANDARD
TZOFFSETFROM:+0200
TZOFFSETTO:+0100
TZNAME:CET
DTSTART:20271031T010000
END:STANDARD
END:VTIMEZONE
BEGIN:VEVENT
DTSTART;TZID=Europe/Paris:20260307T140000
DTEND;TZID=Europe/Paris:20260307T200000
DTSTAMP:20260422T061519
CREATED:20251015T141457Z
LAST-MODIFIED:20251024T153026Z
UID:19612-1772892000-1772913600@www.atelierduthabor.fr
SUMMARY:Stage Sculpture/Peinture De la ligne au Volume Modèle vivant
DESCRIPTION:Stage Sculpture/Peinture « De la ligne au Volume » (modèle vivant)\nSamedi 7 mars 2026\nFemme en courbes avec modèle vivant (sculpture/peinture)\,\nanimé par Laëtitia-May LE GUELAFF \nNiveau de difficulté : débutant et confirmé \nHoraires : 14h-20h \nTarifs : 90€/personne (terre comprise) \nRenseignement & Inscription :\nInscription sur listing à l’atelier ou directement auprès de Laëtitia-May LE GUELAFF :\nTel. : 06 73 04 31 75 | Mail : laetitiamay@icloud.com
URL:https://www.atelierduthabor.fr/evenement/stage-sculpture-delaligneauvolume/
LOCATION:Atelier du Thabor
CATEGORIES:Laetitia-May Le Guelaff Sculpture,Stage
ATTACH;FMTTYPE=image/png:https://www.atelierduthabor.fr/wp-content/uploads/2025/10/Capture-decran-2025-10-23-a-11.47.10.png
ORGANIZER;CN="Laetitia-May  Le Guelaff":MAILTO:laetitiamay@icloud.com
END:VEVENT
BEGIN:VEVENT
DTSTART;VALUE=DATE:20260314
DTEND;VALUE=DATE:20260316
DTSTAMP:20260422T061519
CREATED:20251013T125752Z
LAST-MODIFIED:20251024T142328Z
UID:19600-1773446400-1773619199@www.atelierduthabor.fr
SUMMARY:Stage Peinture Discussion allégorique
DESCRIPTION:Stage peinture : Discussion allegorique\nles 14-15 MARS 2026 \n— \nProgramme : \nCréer une scène de vis allégorique mettant en jeu une discussion entre l’Homme et le monde animal (oiseau) en reprenant les codes graphiques des oeuvres de Boris Foscolo \nNiveau de difficulté : débutant et confirmé \nHoraires : samedi: 14H – 18 h / dimanche: 10 h -12 h30 et 13h30 -17h00 \nTarif : 120 euros pour 10h de stage\n(Possibilité de manger sur place le dimanche\, pique-nique convivial …) \nRenseignement & Inscription :\nInscription sur listing à l’atelier ou directement  auprès de Boris Foscolo :\nTel. : 06 81 52 27 51 | Mail : boris.foscolo@gmail.com \n 
URL:https://www.atelierduthabor.fr/evenement/stage-discussion-allegorique/
LOCATION:Atelier du Thabor
CATEGORIES:Boris Foscolo,Stage
ATTACH;FMTTYPE=image/jpeg:https://www.atelierduthabor.fr/wp-content/uploads/2025/10/stage-peinture-allegoriemars-banner.jpg
ORGANIZER;CN="Boris Foscolo":MAILTO:boris.foscolo@gmail.com
END:VEVENT
BEGIN:VEVENT
DTSTART;TZID=Europe/Paris:20260321T140000
DTEND;TZID=Europe/Paris:20260321T170000
DTSTAMP:20260422T061519
CREATED:20251024T143407Z
LAST-MODIFIED:20251024T143407Z
UID:19668-1774101600-1774112400@www.atelierduthabor.fr
SUMMARY:Stage MANGA "Temple"
DESCRIPTION:Stage DESSIN MANGA du samedi 21 mars 2026\nanimé par Florence Bourges. \n— \nThème du stage : Temple \nIdéal pour travailler la perspective et l’architecture\, travail de la maison d’un personnage\, d’un décor. \nNiveau de difficulté & âge : Tous niveaux de 9 à 17 ans \nHoraires : 14h-17h \nTarif : 48 € la séance de 3h \nLieu : Atelier du Thabor\, 3 place St Melaine\, 35000 RENNES (en mezzanine). \nRenseignement & Inscription :\nInscriptions & infos auprès de Florence Bourges\nE-mail de Florence : rennesart@gmail.com
URL:https://www.atelierduthabor.fr/evenement/stage-manga-temple/
LOCATION:Atelier du Thabor
CATEGORIES:Florence Bourges,Stage
ATTACH;FMTTYPE=image/jpeg:https://www.atelierduthabor.fr/wp-content/uploads/2025/10/stage-manga2026-banner.jpg
ORGANIZER;CN="Florence Bourges":MAILTO:rennesart@gmail.com
END:VEVENT
END:VCALENDAR