BEGIN:VCALENDAR
VERSION:2.0
PRODID:-//Atelier du Thabor - ECPv6.15.18//NONSGML v1.0//EN
CALSCALE:GREGORIAN
METHOD:PUBLISH
X-WR-CALNAME:Atelier du Thabor
X-ORIGINAL-URL:https://www.atelierduthabor.fr
X-WR-CALDESC:Évènements pour Atelier du Thabor
REFRESH-INTERVAL;VALUE=DURATION:PT1H
X-Robots-Tag:noindex
X-PUBLISHED-TTL:PT1H
BEGIN:VTIMEZONE
TZID:Europe/Paris
BEGIN:DAYLIGHT
TZOFFSETFROM:+0100
TZOFFSETTO:+0200
TZNAME:CEST
DTSTART:20250330T010000
END:DAYLIGHT
BEGIN:STANDARD
TZOFFSETFROM:+0200
TZOFFSETTO:+0100
TZNAME:CET
DTSTART:20251026T010000
END:STANDARD
BEGIN:DAYLIGHT
TZOFFSETFROM:+0100
TZOFFSETTO:+0200
TZNAME:CEST
DTSTART:20260329T010000
END:DAYLIGHT
BEGIN:STANDARD
TZOFFSETFROM:+0200
TZOFFSETTO:+0100
TZNAME:CET
DTSTART:20261025T010000
END:STANDARD
BEGIN:DAYLIGHT
TZOFFSETFROM:+0100
TZOFFSETTO:+0200
TZNAME:CEST
DTSTART:20270328T010000
END:DAYLIGHT
BEGIN:STANDARD
TZOFFSETFROM:+0200
TZOFFSETTO:+0100
TZNAME:CET
DTSTART:20271031T010000
END:STANDARD
END:VTIMEZONE
BEGIN:VEVENT
DTSTART;VALUE=DATE:20260131
DTEND;VALUE=DATE:20260202
DTSTAMP:20260422T074221
CREATED:20251101T204414Z
LAST-MODIFIED:20251101T205319Z
UID:19702-1769817600-1769990399@www.atelierduthabor.fr
SUMMARY:Stage Peindre comme Hollis DUNLAP (bis)
DESCRIPTION:Stage Peindre comme Hollis DUNLAP\nles 31 JANVIER – 1er FEVRIER 2026 \n— \nProgramme : \n\nPrésentation du peintre Hollis Dunlap\nExplication sur la manière de peindre de l’artiste\nSupports théoriques et pratiques\nExecution du portrait\, mise en pratique de la technique\n\nNiveau de difficulté : débutant et confirmé \nHoraires : samedi: 14H – 18 h / dimanche: 10 h -12 h30 et 13h30 -17h00 \nTarif : 120 euros pour 10h de stage\n(Possibilité de manger sur place le dimanche\, pique-nique convivial …) \nRenseignement & Inscription :\nInscription sur listing à l’atelier ou directement  auprès de Boris Foscolo :\nTel. : 06 81 52 27 51 | Mail : boris.foscolo@gmail.com
URL:https://www.atelierduthabor.fr/evenement/stage-peindre-comme-hollis-dunlap-2/
LOCATION:Atelier du Thabor
CATEGORIES:Boris Foscolo,Stage
ATTACH;FMTTYPE=image/jpeg:https://www.atelierduthabor.fr/wp-content/uploads/2025/11/stage-peinture-hollisdunlap02-banner.jpg
ORGANIZER;CN="Boris Foscolo":MAILTO:boris.foscolo@gmail.com
END:VEVENT
BEGIN:VEVENT
DTSTART;TZID=Europe/Paris:20260207T140000
DTEND;TZID=Europe/Paris:20260207T170000
DTSTAMP:20260422T074221
CREATED:20251024T143028Z
LAST-MODIFIED:20251024T143436Z
UID:19664-1770472800-1770483600@www.atelierduthabor.fr
SUMMARY:Stage MANGA "POUVOIR & LUMIERE"
DESCRIPTION:Stage DESSIN MANGA du samedi 07 février 2026\nanimé par Florence Bourges. \n— \nThème du stage : POUVOIR & LUMIERE \nSur papier gris au crayon de couleurs et poscas\, on travaille les effets lumineux de la magie ou de la nuit. \nNiveau de difficulté & âge : Tous niveaux de 9 à 17 ans \nHoraires : 14h-17h \nTarif : 48 € la séance de 3h \nLieu : Atelier du Thabor\, 3 place St Melaine\, 35000 RENNES (en mezzanine). \nRenseignement & Inscription :\nInscriptions & infos auprès de Florence Bourges\nE-mail de Florence : rennesart@gmail.com
URL:https://www.atelierduthabor.fr/evenement/stage-manga-pouvoiretlumiere/
LOCATION:Atelier du Thabor
CATEGORIES:Florence Bourges,Stage
ATTACH;FMTTYPE=image/jpeg:https://www.atelierduthabor.fr/wp-content/uploads/2025/10/stage-manga2026-banner.jpg
ORGANIZER;CN="Florence Bourges":MAILTO:rennesart@gmail.com
END:VEVENT
BEGIN:VEVENT
DTSTART;VALUE=DATE:20260214
DTEND;VALUE=DATE:20260216
DTSTAMP:20260422T074221
CREATED:20260107T173815Z
LAST-MODIFIED:20260109T153438Z
UID:19765-1771027200-1771199999@www.atelierduthabor.fr
SUMMARY:Stage Peinture La suggestion du détail
DESCRIPTION:Stage Peinture « La suggestion du détail »\nles 14 et 15 février 2026 \n— \nProgramme : \nPeindre ne consiste pas à décrire\, mais à suggérer. \nÀ partir de fleurs et de formes végétales\, ce stage explore une peinture où le détail émerge du geste\, de la matière et de la couleur\, entre abstraction et figuration. \nCe stage s’inscrit dans une tradition picturale influencée par la peinture néerlandaise\, des maîtres classiques aux approches contemporaines. \nNiveau de difficulté : Ouvert aux débutants et aux peintres confirmés. \nHoraires : samedi: 14H – 18 h / dimanche: 10 h -12 h30 et 13h30 -17h00 \nTarif : 70 euros\n(Possibilité de manger sur place le dimanche\, pique-nique convivial …) \nRenseignement & Inscription :\nInscription sur listing à l’atelier ou directement  auprès de David Iserief :\nMail : davidiserief@gmail.com
URL:https://www.atelierduthabor.fr/evenement/stage-peinture-suggestion-detail/
LOCATION:Atelier du Thabor
CATEGORIES:Stage
ATTACH;FMTTYPE=image/jpeg:https://www.atelierduthabor.fr/wp-content/uploads/2026/01/stage-iserief-fev2026-banner.jpg
END:VEVENT
END:VCALENDAR