BEGIN:VCALENDAR
VERSION:2.0
PRODID:-//Atelier du Thabor - ECPv6.15.18//NONSGML v1.0//EN
CALSCALE:GREGORIAN
METHOD:PUBLISH
X-WR-CALNAME:Atelier du Thabor
X-ORIGINAL-URL:https://www.atelierduthabor.fr
X-WR-CALDESC:Évènements pour Atelier du Thabor
REFRESH-INTERVAL;VALUE=DURATION:PT1H
X-Robots-Tag:noindex
X-PUBLISHED-TTL:PT1H
BEGIN:VTIMEZONE
TZID:Europe/Paris
BEGIN:DAYLIGHT
TZOFFSETFROM:+0100
TZOFFSETTO:+0200
TZNAME:CEST
DTSTART:20240331T010000
END:DAYLIGHT
BEGIN:STANDARD
TZOFFSETFROM:+0200
TZOFFSETTO:+0100
TZNAME:CET
DTSTART:20241027T010000
END:STANDARD
BEGIN:DAYLIGHT
TZOFFSETFROM:+0100
TZOFFSETTO:+0200
TZNAME:CEST
DTSTART:20250330T010000
END:DAYLIGHT
BEGIN:STANDARD
TZOFFSETFROM:+0200
TZOFFSETTO:+0100
TZNAME:CET
DTSTART:20251026T010000
END:STANDARD
BEGIN:DAYLIGHT
TZOFFSETFROM:+0100
TZOFFSETTO:+0200
TZNAME:CEST
DTSTART:20260329T010000
END:DAYLIGHT
BEGIN:STANDARD
TZOFFSETFROM:+0200
TZOFFSETTO:+0100
TZNAME:CET
DTSTART:20261025T010000
END:STANDARD
END:VTIMEZONE
BEGIN:VEVENT
DTSTART;TZID=Europe/Paris:20251206T140000
DTEND;TZID=Europe/Paris:20251206T170000
DTSTAMP:20260422T111054
CREATED:20251024T132421Z
LAST-MODIFIED:20251024T135932Z
UID:19642-1765029600-1765040400@www.atelierduthabor.fr
SUMMARY:Stage MANGA "Fusion Portrait"
DESCRIPTION:Stage DESSIN MANGA du samedi 6 décembre 2025\nanimé par Florence Bourges. \n— \nThème du stage : FUSION PORTRAIT \nProportions et techniques de dessin de portrait. Créer son personnage en mélangeant 2 personnages connus. \nNiveau de difficulté & âge : Tous niveaux de 9 à 17 ans \nHoraires : 14h-17h \nTarif : 48 € la séance de 3h \nLieu : Atelier du Thabor\, 3 place St Melaine\, 35000 RENNES (en mezzanine). \nRenseignement & Inscription :\nInscriptions & infos auprès de Florence Bourges\nE-mail de Florence : rennesart@gmail.com
URL:https://www.atelierduthabor.fr/evenement/stage-manga-fusion-portrait/
LOCATION:Atelier du Thabor
CATEGORIES:Florence Bourges,Stage
ATTACH;FMTTYPE=image/jpeg:https://www.atelierduthabor.fr/wp-content/uploads/2025/10/stage-manga2026-banner.jpg
ORGANIZER;CN="Florence Bourges":MAILTO:rennesart@gmail.com
END:VEVENT
BEGIN:VEVENT
DTSTART;TZID=Europe/Paris:20251212T173000
DTEND;TZID=Europe/Paris:20251212T200000
DTSTAMP:20260422T111054
CREATED:20251201T181045Z
LAST-MODIFIED:20251202T172847Z
UID:19726-1765560600-1765569600@www.atelierduthabor.fr
SUMMARY:Pôt de fin d'année 2025
DESCRIPTION:Pôt de fin d’année 2025\nLa fin de l’année arrive et nous vous rappelons le moment convivial traditionnel qui aura lieu le vendredi 12 décembre à partir de 17H30 à l’Atelier. C’est l’occasion de rencontrer les adhérents des autres ateliers et de montrer votre soutien à l’association par votre présence ! \nSi vous souhaitez faire don de vieux livres d’art\, venez nous les apporter à l’Atelier. Ils serviront pour les cours de nos animateurs ou en troc avec d’autres artistes. \nNous vous attendons avec votre sourire et bonne humeur pour fêter cette fin d’année en gaité. Apportez une boisson\, une gourmandise à partager… ce qui vous fait plaisir !
URL:https://www.atelierduthabor.fr/evenement/pot-de-fin-dannee-2025/
LOCATION:Atelier du Thabor
CATEGORIES:Manifestations,Vie de l'Atelier
ATTACH;FMTTYPE=image/png:https://www.atelierduthabor.fr/wp-content/uploads/2025/12/potfinannee2025-propa2.png
END:VEVENT
END:VCALENDAR