BEGIN:VCALENDAR
VERSION:2.0
PRODID:-//Atelier du Thabor - ECPv6.15.18//NONSGML v1.0//EN
CALSCALE:GREGORIAN
METHOD:PUBLISH
X-ORIGINAL-URL:https://www.atelierduthabor.fr
X-WR-CALDESC:Évènements pour Atelier du Thabor
REFRESH-INTERVAL;VALUE=DURATION:PT1H
X-Robots-Tag:noindex
X-PUBLISHED-TTL:PT1H
BEGIN:VTIMEZONE
TZID:Europe/Paris
BEGIN:DAYLIGHT
TZOFFSETFROM:+0100
TZOFFSETTO:+0200
TZNAME:CEST
DTSTART:20240331T010000
END:DAYLIGHT
BEGIN:STANDARD
TZOFFSETFROM:+0200
TZOFFSETTO:+0100
TZNAME:CET
DTSTART:20241027T010000
END:STANDARD
BEGIN:DAYLIGHT
TZOFFSETFROM:+0100
TZOFFSETTO:+0200
TZNAME:CEST
DTSTART:20250330T010000
END:DAYLIGHT
BEGIN:STANDARD
TZOFFSETFROM:+0200
TZOFFSETTO:+0100
TZNAME:CET
DTSTART:20251026T010000
END:STANDARD
BEGIN:DAYLIGHT
TZOFFSETFROM:+0100
TZOFFSETTO:+0200
TZNAME:CEST
DTSTART:20260329T010000
END:DAYLIGHT
BEGIN:STANDARD
TZOFFSETFROM:+0200
TZOFFSETTO:+0100
TZNAME:CET
DTSTART:20261025T010000
END:STANDARD
END:VTIMEZONE
BEGIN:VEVENT
DTSTART;VALUE=DATE:20250301
DTEND;VALUE=DATE:20250303
DTSTAMP:20260422T233432
CREATED:20250109T143650Z
LAST-MODIFIED:20250110T175034Z
UID:18728-1740787200-1740959999@www.atelierduthabor.fr
SUMMARY:Stage Peindre comme Caravage (mars 2025)
DESCRIPTION:Stage : PEINDRE COMME CARAVAGE les 1er et 2 MARS 2025 \nSAMEDI 14H – 18 h / DIMANCHE\n10 h -12 h et 13h00 -17h00 \n  \nProgramme : \n\nPrésentation du clair obscur dans la peinture ainsi qu’un descriptif sur la vie de Caravage.\nExplication sur la manière de peindre de l’artiste\nSupports théoriques et pratiques\nExecution du portrait\, mise en pratique de la technique de la « grisaille ».\n\n  \nNiveau de difficulté : débutant et confirmé \n  \nTarif : 110 euros pour 10h de stage\n(Possibilité de manger sur place le dimanche\, pique-nique convivial …) \n  \nRenseignement & Inscription :\nInscription sur listing à l’atelier ou directement  auprès de Boris Foscolo :\nTel. : 06 81 52 27 51 | Mail : boris.foscolo@gmail.com
URL:https://www.atelierduthabor.fr/evenement/stage-peindre-comme-caravage-2/
LOCATION:Atelier du Thabor
CATEGORIES:Boris Foscolo,Stage
ATTACH;FMTTYPE=image/jpeg:https://www.atelierduthabor.fr/wp-content/uploads/2025/01/stageBoris-Caravage03-2025.jpg
ORGANIZER;CN="Boris Foscolo":MAILTO:boris.foscolo@gmail.com
END:VEVENT
BEGIN:VEVENT
DTSTART;TZID=Europe/Paris:20250308T140000
DTEND;TZID=Europe/Paris:20250308T170000
DTSTAMP:20260422T233432
CREATED:20240903T134116Z
LAST-MODIFIED:20250811T151649Z
UID:18323-1741442400-1741453200@www.atelierduthabor.fr
SUMMARY:Stage MANGA de Mars 2025
DESCRIPTION:Stage DESSIN MANGA du samedi 8 mars 2025 de 14h à 17h – ouvert à tous niveaux de 9 à 17 ans\, animé par Florence Bourges.\n \nThème du stage : AU PAS ! SCENES DE MARCHE :Comment dessiner un corps de face et de profil dans un mouvement de marche ou de course ? C’est ce qu’on va travailler dans ce stage.\n\n\n\n\nNiveau de difficulté & âge : tous niveaux de 9 à 17 ans \nHoraires : 14h-17h \nTarif : 48 € la séance de 3h \nLieu : Atelier du Thabor\, 3 place St Melaine\, 35000 RENNES (en mezzanine). \nRenseignement & Inscription :Inscriptions & infos auprès de Florence BourgesE-mail de Florence : rennesart@gmail.com 
URL:https://www.atelierduthabor.fr/evenement/stage-manga-mars2025/
LOCATION:Atelier du Thabor\, 3E Place St-Melaine\, Rennes\, 35000\, France
CATEGORIES:Florence Bourges,Stage
ATTACH;FMTTYPE=image/jpeg:https://www.atelierduthabor.fr/wp-content/uploads/2023/11/stage-manga.jpg
ORGANIZER;CN="Florence Bourges":MAILTO:rennesart@gmail.com
END:VEVENT
BEGIN:VEVENT
DTSTART;TZID=Europe/Paris:20250308T140000
DTEND;TZID=Europe/Paris:20250308T200000
DTSTAMP:20260422T233432
CREATED:20240905T081938Z
LAST-MODIFIED:20250111T110138Z
UID:18358-1741442400-1741464000@www.atelierduthabor.fr
SUMMARY:Stage Sculpture/Peinture du 8mars
DESCRIPTION:Stage Sculpture/Peinture du samedi 8 mars :\nFemme en courbes avec modèle vivant (sculpture/peinture)\, animé par Laëtitia-May LE GUELAFF \nNiveau de difficulté : débutant et confirmé \nHoraires : 14h-20h \nTarifs : 90€/personne (terre comprise) \nRenseignement & Inscription :\nInscription sur listing à l’atelier ou directement auprès de Laëtitia-May LE GUELAFF :\nTel. : 06 73 04 31 75 | Mail : laetitiamay@icloud.com
URL:https://www.atelierduthabor.fr/evenement/stage-sculpture-8mars/
LOCATION:Atelier du Thabor
CATEGORIES:Laetitia-May Le Guelaff Sculpture,Stage
ATTACH;FMTTYPE=image/jpeg:https://www.atelierduthabor.fr/wp-content/uploads/2024/09/stage-sculpt-mars-1.jpg
ORGANIZER;CN="Laetitia-May  Le Guelaff":MAILTO:laetitiamay@icloud.com
END:VEVENT
BEGIN:VEVENT
DTSTART;TZID=Europe/Paris:20250315T140000
DTEND;TZID=Europe/Paris:20250316T170000
DTSTAMP:20260422T233432
CREATED:20250311T144137Z
LAST-MODIFIED:20250311T144137Z
UID:18957-1742047200-1742144400@www.atelierduthabor.fr
SUMMARY:Stage Aquarelle & Pastel : fleurs et portrait
DESCRIPTION:Stage Aquarelle & pastel : fleurs et portrait\nsamedi 15 et dimanche 16 mars\nanimé par Danielle Delgrange \nNiveau de difficulté : débutant et confirmé \nHoraires : 14h-17h \nTarifs : 90€/personne (materiel fourni) \nRenseignement & Inscription :\nInscription directement auprès de Danielle Delgrange\nEmail : delgrangedanielle35@gmail.com
URL:https://www.atelierduthabor.fr/evenement/stage-aquarelle-pastel-fleurs-et-portrait/
LOCATION:Atelier du Thabor
CATEGORIES:Danielle Delgrange,Stage
ATTACH;FMTTYPE=image/jpeg:https://www.atelierduthabor.fr/wp-content/uploads/2025/03/pastel-danielle.jpg
END:VEVENT
END:VCALENDAR