BEGIN:VCALENDAR
VERSION:2.0
PRODID:-//Atelier du Thabor - ECPv6.15.18//NONSGML v1.0//EN
CALSCALE:GREGORIAN
METHOD:PUBLISH
X-WR-CALNAME:Atelier du Thabor
X-ORIGINAL-URL:https://www.atelierduthabor.fr
X-WR-CALDESC:Évènements pour Atelier du Thabor
REFRESH-INTERVAL;VALUE=DURATION:PT1H
X-Robots-Tag:noindex
X-PUBLISHED-TTL:PT1H
BEGIN:VTIMEZONE
TZID:Europe/Paris
BEGIN:DAYLIGHT
TZOFFSETFROM:+0100
TZOFFSETTO:+0200
TZNAME:CEST
DTSTART:20240331T010000
END:DAYLIGHT
BEGIN:STANDARD
TZOFFSETFROM:+0200
TZOFFSETTO:+0100
TZNAME:CET
DTSTART:20241027T010000
END:STANDARD
BEGIN:DAYLIGHT
TZOFFSETFROM:+0100
TZOFFSETTO:+0200
TZNAME:CEST
DTSTART:20250330T010000
END:DAYLIGHT
BEGIN:STANDARD
TZOFFSETFROM:+0200
TZOFFSETTO:+0100
TZNAME:CET
DTSTART:20251026T010000
END:STANDARD
BEGIN:DAYLIGHT
TZOFFSETFROM:+0100
TZOFFSETTO:+0200
TZNAME:CEST
DTSTART:20260329T010000
END:DAYLIGHT
BEGIN:STANDARD
TZOFFSETFROM:+0200
TZOFFSETTO:+0100
TZNAME:CET
DTSTART:20261025T010000
END:STANDARD
END:VTIMEZONE
BEGIN:VEVENT
DTSTART;VALUE=DATE:20250118
DTEND;VALUE=DATE:20250120
DTSTAMP:20260423T022518
CREATED:20241121T143650Z
LAST-MODIFIED:20241127T162717Z
UID:18659-1737158400-1737331199@www.atelierduthabor.fr
SUMMARY:Stage Peindre comme Caravage
DESCRIPTION:Stage : PEINDRE COMME CARAVAGE les 18 et 19 JANVIER 2025  complet !  \nSAMEDI 14H – 18 h / DIMANCHE\n10 h -12 h et 13h00 -17h00 \n  \nProgramme : \n\nPrésentation du clair obscur dans la peinture ainsi qu’un descriptif sur la vie de Caravage.\nExplication sur la manière de peindre de l’artiste\nSupports théoriques et pratiques\nExecution du portrait\, mise en pratique de la technique de la « grisaille ».\n\n  \nNiveau de difficulté : débutant et confirmé \n  \nTarif : 110 euros pour 10h de stage\n(Possibilité de manger sur place le dimanche\, pique-nique convivial …) \n  \nRenseignement & Inscription :\nInscription sur listing à l’atelier ou directement  auprès de Boris Foscolo :\nTel. : 06 81 52 27 51 | Mail : boris.foscolo@gmail.com
URL:https://www.atelierduthabor.fr/evenement/stage-peindre-comme-caravage/
LOCATION:Atelier du Thabor
CATEGORIES:Boris Foscolo,Stage
ATTACH;FMTTYPE=image/jpeg:https://www.atelierduthabor.fr/wp-content/uploads/2024/11/stageBoris-Caravage3.jpg
ORGANIZER;CN="Boris Foscolo":MAILTO:boris.foscolo@gmail.com
END:VEVENT
END:VCALENDAR