BEGIN:VCALENDAR
VERSION:2.0
PRODID:-//Atelier du Thabor - ECPv6.15.18//NONSGML v1.0//EN
CALSCALE:GREGORIAN
METHOD:PUBLISH
X-WR-CALNAME:Atelier du Thabor
X-ORIGINAL-URL:https://www.atelierduthabor.fr
X-WR-CALDESC:Évènements pour Atelier du Thabor
REFRESH-INTERVAL;VALUE=DURATION:PT1H
X-Robots-Tag:noindex
X-PUBLISHED-TTL:PT1H
BEGIN:VTIMEZONE
TZID:Europe/Paris
BEGIN:DAYLIGHT
TZOFFSETFROM:+0100
TZOFFSETTO:+0200
TZNAME:CEST
DTSTART:20230326T010000
END:DAYLIGHT
BEGIN:STANDARD
TZOFFSETFROM:+0200
TZOFFSETTO:+0100
TZNAME:CET
DTSTART:20231029T010000
END:STANDARD
BEGIN:DAYLIGHT
TZOFFSETFROM:+0100
TZOFFSETTO:+0200
TZNAME:CEST
DTSTART:20240331T010000
END:DAYLIGHT
BEGIN:STANDARD
TZOFFSETFROM:+0200
TZOFFSETTO:+0100
TZNAME:CET
DTSTART:20241027T010000
END:STANDARD
BEGIN:DAYLIGHT
TZOFFSETFROM:+0100
TZOFFSETTO:+0200
TZNAME:CEST
DTSTART:20250330T010000
END:DAYLIGHT
BEGIN:STANDARD
TZOFFSETFROM:+0200
TZOFFSETTO:+0100
TZNAME:CET
DTSTART:20251026T010000
END:STANDARD
END:VTIMEZONE
BEGIN:VEVENT
DTSTART;TZID=Europe/Paris:20241207T140000
DTEND;TZID=Europe/Paris:20241207T170000
DTSTAMP:20260420T131025
CREATED:20240903T133649Z
LAST-MODIFIED:20250811T151639Z
UID:18319-1733580000-1733590800@www.atelierduthabor.fr
SUMMARY:Stage MANGA de Décembre 2024
DESCRIPTION:Stage DESSIN MANGA du samedi 7 décembre 2024 de 14h à 17h – ouvert à tous niveaux de 9 à 17 ans\, animé par Florence Bourges.\n \nThème du stage : UN POUVOIR DANS LA NUIT :\nOn va travailler un paysage simple de nuit et la représentation d’un personnage aux pouvoirs lumineux. Focus sur les mains et la lumière.\nTarif : 48 euros la séance de 3h \nLieu : Atelier du Thabor\, 3 place St Melaine\, 35000 RENNES (en mezzanine). \nInscriptions & infos auprès de Florence : rennesart@gmail.com \n 
URL:https://www.atelierduthabor.fr/evenement/stage-manga-dec2024/
LOCATION:Atelier du Thabor\, 3E Place St-Melaine\, Rennes\, 35000\, France
CATEGORIES:Florence Bourges,Stage
ATTACH;FMTTYPE=image/jpeg:https://www.atelierduthabor.fr/wp-content/uploads/2024/09/Stage-MANGA-dec2024-banner3.jpg
ORGANIZER;CN="Florence Bourges":MAILTO:rennesart@gmail.com
END:VEVENT
END:VCALENDAR