BEGIN:VCALENDAR
VERSION:2.0
PRODID:-//Atelier du Thabor - ECPv6.15.18//NONSGML v1.0//EN
CALSCALE:GREGORIAN
METHOD:PUBLISH
X-WR-CALNAME:Atelier du Thabor
X-ORIGINAL-URL:https://www.atelierduthabor.fr
X-WR-CALDESC:Évènements pour Atelier du Thabor
REFRESH-INTERVAL;VALUE=DURATION:PT1H
X-Robots-Tag:noindex
X-PUBLISHED-TTL:PT1H
BEGIN:VTIMEZONE
TZID:Europe/Paris
BEGIN:DAYLIGHT
TZOFFSETFROM:+0100
TZOFFSETTO:+0200
TZNAME:CEST
DTSTART:20250330T010000
END:DAYLIGHT
BEGIN:STANDARD
TZOFFSETFROM:+0200
TZOFFSETTO:+0100
TZNAME:CET
DTSTART:20251026T010000
END:STANDARD
BEGIN:DAYLIGHT
TZOFFSETFROM:+0100
TZOFFSETTO:+0200
TZNAME:CEST
DTSTART:20260329T010000
END:DAYLIGHT
BEGIN:STANDARD
TZOFFSETFROM:+0200
TZOFFSETTO:+0100
TZNAME:CET
DTSTART:20261025T010000
END:STANDARD
BEGIN:DAYLIGHT
TZOFFSETFROM:+0100
TZOFFSETTO:+0200
TZNAME:CEST
DTSTART:20270328T010000
END:DAYLIGHT
BEGIN:STANDARD
TZOFFSETFROM:+0200
TZOFFSETTO:+0100
TZNAME:CET
DTSTART:20271031T010000
END:STANDARD
BEGIN:DAYLIGHT
TZOFFSETFROM:+0100
TZOFFSETTO:+0200
TZNAME:CEST
DTSTART:20280326T010000
END:DAYLIGHT
BEGIN:STANDARD
TZOFFSETFROM:+0200
TZOFFSETTO:+0100
TZNAME:CET
DTSTART:20281029T010000
END:STANDARD
END:VTIMEZONE
BEGIN:VEVENT
DTSTART;TZID=Europe/Paris:20260510T090000
DTEND;TZID=Europe/Paris:20270509T173000
DTSTAMP:20260422T073243
CREATED:20260319T160619Z
LAST-MODIFIED:20260331T152232Z
UID:19871-1778403600-1809883800@www.atelierduthabor.fr
SUMMARY:La Journée des Arts 2026
DESCRIPTION:Concours de peinture gratuit pour tous\nL’Atelier du Thabor organise la 28e Journée des Arts dans le parc du Thabor\, toute la journée le dimanche 10 mai 2026\, avec le soutien de la Ville de Rennes dans le cadre du dispositif Un Dimanche à Rennes. \nElle est couplée avec la traditionnelle exposition à l’Orangerie du Thabor\, du 4 au 10 mai 2026. \nConcours de peinture\, portes ouvertes de l’Atelier\, et concert jazzy\, accompagneront cette journée.\nLes inscriptions au concours de peinture se dérouleront à partir de 9H00 à l’Atelier. \n» En savoir plus sur le concours \n 
URL:https://www.atelierduthabor.fr/evenement/la-journee-des-arts-2026/
LOCATION:Parc du Thabor\, Rennes
CATEGORIES:Expositions,Manifestations,Vie de l'Atelier
ATTACH;FMTTYPE=image/jpeg:https://www.atelierduthabor.fr/wp-content/uploads/2026/03/AfficheJDA2026_A3-72dpi.jpg
END:VEVENT
BEGIN:VEVENT
DTSTART;VALUE=DATE:20260530
DTEND;VALUE=DATE:20260601
DTSTAMP:20260422T073243
CREATED:20251024T153412Z
LAST-MODIFIED:20260305T224735Z
UID:19692-1780099200-1780271999@www.atelierduthabor.fr
SUMMARY:Stage Peinture Peindre comme CARAVAGE
DESCRIPTION:Stage peinture : Peindre comme CARAVAGE\nles 30 et 31 mai 2026\, animé par Boris Foscolo \n— \nProgramme : \n– Présentation du clair-obscur dans la peinture ainsi qu’un descriptif sur la vie de Caravage. \n– Explication sur la manière de peindre de l’artiste \n– Supports théoriques et pratiques \n– Execution du portrait\, mise en pratique de la technique de la « grisaille » \n  \nNiveau de difficulté : débutant et confirmé \nHoraires : samedi: 14H – 18 h / dimanche: 10 h -12 h30 et 13h30 -17h00 \nTarif : 120 euros pour 10h de stage\n(Possibilité de manger sur place le dimanche\, pique-nique convivial …) \nRenseignement & Inscription :\nInscription sur listing à l’atelier ou directement  auprès de Boris Foscolo :\nTel. : 06 81 52 27 51 | Mail : boris.foscolo@gmail.com \n 
URL:https://www.atelierduthabor.fr/evenement/stage-boris-mai2026/
LOCATION:Atelier du Thabor
CATEGORIES:Boris Foscolo,Stage
ATTACH;FMTTYPE=image/jpeg:https://www.atelierduthabor.fr/wp-content/uploads/2025/10/stage-caravage-mai2026-banner.jpg
ORGANIZER;CN="Boris Foscolo":MAILTO:boris.foscolo@gmail.com
END:VEVENT
END:VCALENDAR