BEGIN:VCALENDAR
VERSION:2.0
PRODID:-//Atelier du Thabor - ECPv6.15.18//NONSGML v1.0//EN
CALSCALE:GREGORIAN
METHOD:PUBLISH
X-ORIGINAL-URL:https://www.atelierduthabor.fr
X-WR-CALDESC:Évènements pour Atelier du Thabor
REFRESH-INTERVAL;VALUE=DURATION:PT1H
X-Robots-Tag:noindex
X-PUBLISHED-TTL:PT1H
BEGIN:VTIMEZONE
TZID:Europe/Paris
BEGIN:DAYLIGHT
TZOFFSETFROM:+0100
TZOFFSETTO:+0200
TZNAME:CEST
DTSTART:20250330T010000
END:DAYLIGHT
BEGIN:STANDARD
TZOFFSETFROM:+0200
TZOFFSETTO:+0100
TZNAME:CET
DTSTART:20251026T010000
END:STANDARD
BEGIN:DAYLIGHT
TZOFFSETFROM:+0100
TZOFFSETTO:+0200
TZNAME:CEST
DTSTART:20260329T010000
END:DAYLIGHT
BEGIN:STANDARD
TZOFFSETFROM:+0200
TZOFFSETTO:+0100
TZNAME:CET
DTSTART:20261025T010000
END:STANDARD
BEGIN:DAYLIGHT
TZOFFSETFROM:+0100
TZOFFSETTO:+0200
TZNAME:CEST
DTSTART:20270328T010000
END:DAYLIGHT
BEGIN:STANDARD
TZOFFSETFROM:+0200
TZOFFSETTO:+0100
TZNAME:CET
DTSTART:20271031T010000
END:STANDARD
END:VTIMEZONE
BEGIN:VEVENT
DTSTART;VALUE=DATE:20260504
DTEND;VALUE=DATE:20260511
DTSTAMP:20260422T073346
CREATED:20260319T160327Z
LAST-MODIFIED:20260415T151530Z
UID:19868-1777852800-1778457599@www.atelierduthabor.fr
SUMMARY:Exposition collective à l'Orangerie Ouest
DESCRIPTION:Exposition collective\ndu 4 au 10 mai 2026 à l’Orangerie OUEST du Thabor. \n \nL’Atelier du Thabor met à l’honneur ses ateliers artistiques du 4 au 10 mai à l’Orangerie Ouest\, dans le jardin du Thabor. \nLes ateliers Dessin-Peinture\, Aquarelle\, Dessin-Illustration\,  Gravure et Jeunes sont représentés. \n– \nDu lundi 4 au dimanche 10 mai\, Orangerie du Thabor\, 4\, rue de la Palestine\, Rennes.\nEntrée libre \nOuverture de 14h à 19h en semaine et de 11h à 18h samedi et dimanche. \nVERNISSAGE le samedi 9 mai\, à 12h30.
URL:https://www.atelierduthabor.fr/evenement/exposition-collective-mai2026/
LOCATION:Orangerie du Thabor\, 4 rue de la Palestine\, Rennes\, 35000\, France
CATEGORIES:Expositions,Vie de l'Atelier
ATTACH;FMTTYPE=image/jpeg:https://www.atelierduthabor.fr/wp-content/uploads/2026/04/AfficheOrangerie-mai2026-A3-72dpi.jpg
END:VEVENT
END:VCALENDAR