BEGIN:VCALENDAR
VERSION:2.0
PRODID:-//Atelier du Thabor - ECPv6.15.18//NONSGML v1.0//EN
CALSCALE:GREGORIAN
METHOD:PUBLISH
X-WR-CALNAME:Atelier du Thabor
X-ORIGINAL-URL:https://www.atelierduthabor.fr
X-WR-CALDESC:Évènements pour Atelier du Thabor
REFRESH-INTERVAL;VALUE=DURATION:PT1H
X-Robots-Tag:noindex
X-PUBLISHED-TTL:PT1H
BEGIN:VTIMEZONE
TZID:Europe/Paris
BEGIN:DAYLIGHT
TZOFFSETFROM:+0100
TZOFFSETTO:+0200
TZNAME:CEST
DTSTART:20250330T010000
END:DAYLIGHT
BEGIN:STANDARD
TZOFFSETFROM:+0200
TZOFFSETTO:+0100
TZNAME:CET
DTSTART:20251026T010000
END:STANDARD
BEGIN:DAYLIGHT
TZOFFSETFROM:+0100
TZOFFSETTO:+0200
TZNAME:CEST
DTSTART:20260329T010000
END:DAYLIGHT
BEGIN:STANDARD
TZOFFSETFROM:+0200
TZOFFSETTO:+0100
TZNAME:CET
DTSTART:20261025T010000
END:STANDARD
BEGIN:DAYLIGHT
TZOFFSETFROM:+0100
TZOFFSETTO:+0200
TZNAME:CEST
DTSTART:20270328T010000
END:DAYLIGHT
BEGIN:STANDARD
TZOFFSETFROM:+0200
TZOFFSETTO:+0100
TZNAME:CET
DTSTART:20271031T010000
END:STANDARD
END:VTIMEZONE
BEGIN:VEVENT
DTSTART;TZID=Europe/Paris:20260307T140000
DTEND;TZID=Europe/Paris:20260307T200000
DTSTAMP:20260422T074223
CREATED:20251015T141457Z
LAST-MODIFIED:20251024T153026Z
UID:19612-1772892000-1772913600@www.atelierduthabor.fr
SUMMARY:Stage Sculpture/Peinture De la ligne au Volume Modèle vivant
DESCRIPTION:Stage Sculpture/Peinture « De la ligne au Volume » (modèle vivant)\nSamedi 7 mars 2026\nFemme en courbes avec modèle vivant (sculpture/peinture)\,\nanimé par Laëtitia-May LE GUELAFF \nNiveau de difficulté : débutant et confirmé \nHoraires : 14h-20h \nTarifs : 90€/personne (terre comprise) \nRenseignement & Inscription :\nInscription sur listing à l’atelier ou directement auprès de Laëtitia-May LE GUELAFF :\nTel. : 06 73 04 31 75 | Mail : laetitiamay@icloud.com
URL:https://www.atelierduthabor.fr/evenement/stage-sculpture-delaligneauvolume/
LOCATION:Atelier du Thabor
CATEGORIES:Laetitia-May Le Guelaff Sculpture,Stage
ATTACH;FMTTYPE=image/png:https://www.atelierduthabor.fr/wp-content/uploads/2025/10/Capture-decran-2025-10-23-a-11.47.10.png
ORGANIZER;CN="Laetitia-May  Le Guelaff":MAILTO:laetitiamay@icloud.com
END:VEVENT
END:VCALENDAR