BEGIN:VCALENDAR
VERSION:2.0
PRODID:-//Atelier du Thabor - ECPv6.15.18//NONSGML v1.0//EN
CALSCALE:GREGORIAN
METHOD:PUBLISH
X-WR-CALNAME:Atelier du Thabor
X-ORIGINAL-URL:https://www.atelierduthabor.fr
X-WR-CALDESC:Évènements pour Atelier du Thabor
REFRESH-INTERVAL;VALUE=DURATION:PT1H
X-Robots-Tag:noindex
X-PUBLISHED-TTL:PT1H
BEGIN:VTIMEZONE
TZID:Europe/Paris
BEGIN:DAYLIGHT
TZOFFSETFROM:+0100
TZOFFSETTO:+0200
TZNAME:CEST
DTSTART:20250330T010000
END:DAYLIGHT
BEGIN:STANDARD
TZOFFSETFROM:+0200
TZOFFSETTO:+0100
TZNAME:CET
DTSTART:20251026T010000
END:STANDARD
BEGIN:DAYLIGHT
TZOFFSETFROM:+0100
TZOFFSETTO:+0200
TZNAME:CEST
DTSTART:20260329T010000
END:DAYLIGHT
BEGIN:STANDARD
TZOFFSETFROM:+0200
TZOFFSETTO:+0100
TZNAME:CET
DTSTART:20261025T010000
END:STANDARD
BEGIN:DAYLIGHT
TZOFFSETFROM:+0100
TZOFFSETTO:+0200
TZNAME:CEST
DTSTART:20270328T010000
END:DAYLIGHT
BEGIN:STANDARD
TZOFFSETFROM:+0200
TZOFFSETTO:+0100
TZNAME:CET
DTSTART:20271031T010000
END:STANDARD
END:VTIMEZONE
BEGIN:VEVENT
DTSTART;VALUE=DATE:20260117
DTEND;VALUE=DATE:20260119
DTSTAMP:20260422T104722
CREATED:20251013T125236Z
LAST-MODIFIED:20251024T142204Z
UID:19597-1768608000-1768780799@www.atelierduthabor.fr
SUMMARY:Stage Peindre comme Hollis DUNLAP
DESCRIPTION:Stage Peindre comme Hollis DUNLAP\nles 17-18 JANVIER 2026 \n— \nProgramme : \n\nPrésentation du peintre Hollis Dunlap\nExplication sur la manière de peindre de l’artiste\nSupports théoriques et pratiques\nExecution du portrait\, mise en pratique de la technique\n\nNiveau de difficulté : débutant et confirmé \nHoraires : samedi: 14H – 18 h / dimanche: 10 h -12 h30 et 13h30 -17h00 \nTarif : 120 euros pour 10h de stage\n(Possibilité de manger sur place le dimanche\, pique-nique convivial …) \nRenseignement & Inscription :\nInscription sur listing à l’atelier ou directement  auprès de Boris Foscolo :\nTel. : 06 81 52 27 51 | Mail : boris.foscolo@gmail.com
URL:https://www.atelierduthabor.fr/evenement/stage-peindre-comme-hollis-dunlap/
LOCATION:Atelier du Thabor
CATEGORIES:Boris Foscolo,Stage
ATTACH;FMTTYPE=image/jpeg:https://www.atelierduthabor.fr/wp-content/uploads/2025/10/stage-peinture-hollisdunlap01-banner.jpg
ORGANIZER;CN="Boris Foscolo":MAILTO:boris.foscolo@gmail.com
END:VEVENT
END:VCALENDAR