BEGIN:VCALENDAR
VERSION:2.0
PRODID:-//Atelier du Thabor - ECPv6.15.18//NONSGML v1.0//EN
CALSCALE:GREGORIAN
METHOD:PUBLISH
X-WR-CALNAME:Atelier du Thabor
X-ORIGINAL-URL:https://www.atelierduthabor.fr
X-WR-CALDESC:Évènements pour Atelier du Thabor
REFRESH-INTERVAL;VALUE=DURATION:PT1H
X-Robots-Tag:noindex
X-PUBLISHED-TTL:PT1H
BEGIN:VTIMEZONE
TZID:Europe/Paris
BEGIN:DAYLIGHT
TZOFFSETFROM:+0100
TZOFFSETTO:+0200
TZNAME:CEST
DTSTART:20240331T010000
END:DAYLIGHT
BEGIN:STANDARD
TZOFFSETFROM:+0200
TZOFFSETTO:+0100
TZNAME:CET
DTSTART:20241027T010000
END:STANDARD
BEGIN:DAYLIGHT
TZOFFSETFROM:+0100
TZOFFSETTO:+0200
TZNAME:CEST
DTSTART:20250330T010000
END:DAYLIGHT
BEGIN:STANDARD
TZOFFSETFROM:+0200
TZOFFSETTO:+0100
TZNAME:CET
DTSTART:20251026T010000
END:STANDARD
BEGIN:DAYLIGHT
TZOFFSETFROM:+0100
TZOFFSETTO:+0200
TZNAME:CEST
DTSTART:20260329T010000
END:DAYLIGHT
BEGIN:STANDARD
TZOFFSETFROM:+0200
TZOFFSETTO:+0100
TZNAME:CET
DTSTART:20261025T010000
END:STANDARD
END:VTIMEZONE
BEGIN:VEVENT
DTSTART;TZID=Europe/Paris:20251129T140000
DTEND;TZID=Europe/Paris:20251130T213000
DTSTAMP:20260422T140608
CREATED:20251003T112850Z
LAST-MODIFIED:20251024T142422Z
UID:19574-1764424800-1764538200@www.atelierduthabor.fr
SUMMARY:Stage au Stabilo avec V. Andrieu
DESCRIPTION:Stages “La couleur c’est la lumière\, la lumière c’est l’espace”\nanimés par Vincent Andrieu \n\nDATES :\n29 et 30 novembre 2025 : en journée + le soir.  Choisir 1 ou 2 jour(s) + 1 ou 2 soirée(s). \n\nHORAIRES :\nAteliers de jour : 14h00 – 18h00\nAteliers de nuit : 19h30 – 21h30 (après pause repas libre : en commun / au choix) \nTARIFS :\n55 € par journée (choisir 1 ou 2 jours)\n40 € par soirée (choisir 1 ou 2 soirées) \nAU PROGRAMME :\nPetits exercices encadrés et ciblés pour travailler une problématique à la fois : les valeurs de lumière\, le contraste\, le cadrage\, un peu de perspective. En observation directe “sur le vif” ou d’après photo suivant la météo. Mise en pratique et échanges. Le soir dessin de nuit. \nATELIER DESSINER LA LUMIÈRE [POCHADE ET VALEURS] avec de gros surligneurs fluo de bureau.\n« LA COULEUR C’EST LA LUMIERE\, LA LUMIERE C’EST L’ESPACE”\nUn atelier « pochades » pour aller à l’essentiel\, pour dessiner d’une autre manière avec quelques surligneurs et un gros marqueur noir : dessiner sur le vif en commençant par le bon bout\, sans chercher à représenter les objets eux-mêmes\, mais en retenant ce qui relie\, ce qui se passe entre : les taches de lumières flottantes\, les compter\, mesurer leurs justes contrastes et nuances de valeurs\, retenir leurs relations dans le cadre choisi. Alors le paysage rassemblé par la lumière sera debout devant nous. \nATELIER DESSIN DE NUIT [LA NUIT DES FORMES] avec quelques gros surligneurs fluo de bureau.\n« LA COULEUR C’EST LA LUMIERE\, LA LUMIERE C’EST L’ESPACE »\nUn atelier dans le noir (à la lumière d’un réverbère ou d’une lampe de poche) pour aller à l’essentiel\, pour dessiner d’une autre manière avec quelques surligneurs et un gros marqueur noir : explorer la couleur de la nuit\, les lumières sur fond de nuit. Nous ne chercherons pas à décrire ou reconnaitre les “choses”\, mais nous révèlerons les nuances lumineuses émergeant du noir en s’attachant à leurs justes valeurs dans le cadre choisi. Alors la profondeur de la nuit sera notre. \nPOUR TOUT PUBLIC :\nAteliers ouverts à tous\, débutants comme confirmés. Sans stress. Chaque participant pourra progresser à son rythme\, avec des exercices simples pour travailler l’essentiel ! \nMATÉRIEL : STABILO !\n6 stabilos couleurs de base\, surtout pas plus de couleurs. C’est le top pour qu’on parle de la même chose durant l’atelier. En plus un feutre noir pas trop fin et un marqueur noir. Pour le support : un carnet de croquis format libre. Chacun amène ses stabilos et feutres (voir photo jointe) ou bien :\n+ 5€ : je prête stabilos et feutres.\n+15€ : je fournis stabilos et feutres. \nLIEU :\nAtelier du Thabor \nTARIF :\n55 € par journée (choisir 1 ou 2 jours)\n40 € par soirée (choisir 1 ou 2 soirées) \nRÉSERVATION :\nUn acompte de 25% (soit 1/4 du montant total) est demandé pour valider l’inscription.\nÀ régler par chèque ou virement 15 jours avant le début du stage.\nLe nombre de participants est limité à une dizaine pour garantir le confort de chacun. \nÀ PRÉVOIR :\nEn fonction de la météo on pourra envisager de dessiner aux abords de l’atelier en extérieur. Je dessine debout\, mais chacun fait comme il se sent au mieux. Si tu préfères dessiner assis\, penser à te munir d’un siège pliant\, + lampe de poche\, lampe vélo ou téléphone portable pour les soirées. \n  \nVincent Andrieu\n+33 [0] 6 87 32 25 07\nvincentandrieu@orange.fr \nhttps://le-paon.com/prof/vincent-andrieu-professeur-de-dessin\nhttps://www.facebook.com/VincentAndrieuMonde\nhttps://www.instagram.com/andrieu.vincent/?hl=fr \nPS : des liens vidéos pour me connaitre un peu plus : \nhttps://bx1.be/categories/news/urban-sketchers-rencontre-avec-un-passionne-du-croquis\nhttps://www.instagram.com/tv/CsObLHEIXaV/?igshid=MzRlODBiNWFlZA==\nhttps://www.instagram.com/p/C1blr1wteQH/?hl=fr\nhttps://www.facebook.com/VincentAndrieuMonde/videos/396936756013967\nhttps://www.youtube.com/watch?v=cOLjpcbKsKA\nhttps://www.youtube.com/watch?v=LfEWHsn_fnU \n  \n \n 
URL:https://www.atelierduthabor.fr/evenement/stage-au-stabilo/
LOCATION:Atelier du Thabor\, 3E Place St-Melaine\, Rennes\, 35000\, France
CATEGORIES:Stage
ATTACH;FMTTYPE=image/jpeg:https://www.atelierduthabor.fr/wp-content/uploads/2025/10/stage-dessin-fluo-banner.jpg
ORGANIZER;CN="Vincent Andrieu":MAILTO:vincentandrieu@orange.fr
END:VEVENT
END:VCALENDAR